BEGIN:VCALENDAR
VERSION:2.0
PRODID:-//CERN//INDICO//EN
BEGIN:VEVENT
SUMMARY:ادارة المشاريع
DTSTART;VALUE=DATE-TIME:20211010T130000Z
DTEND;VALUE=DATE-TIME:20211014T150000Z
DTSTAMP;VALUE=DATE-TIME:20210828T145203Z
UID:indico-event-2503@events.uobaghdad.edu.iq
DESCRIPTION: دليل دورات  لمؤسسات الدولة والوز
 ارات كافة  للنصف الثاني  2021\n\n\n\n \n\n\n\n\n\nا
 لرجاء مراجعة الدليل لغرض معرفة أسعار الد
 ورات المعلن عنها\n\nhttps://events.uobaghdad.edu.iq/event/25
 03/
LOCATION:الدورات الادارية
URL:https://events.uobaghdad.edu.iq/event/2503/
END:VEVENT
END:VCALENDAR
