BEGIN:VCALENDAR
VERSION:2.0
PRODID:-//CERN//INDICO//EN
BEGIN:VEVENT
SUMMARY:كيفية تنظيم السجلات
DTSTART;VALUE=DATE-TIME:20210926T130000Z
DTEND;VALUE=DATE-TIME:20210930T150000Z
DTSTAMP;VALUE=DATE-TIME:20210825T225005Z
UID:indico-event-2497@events.uobaghdad.edu.iq
DESCRIPTION: دليل دورات  لمؤسسات الدولة والوز
 ارات كافة  للنصف الثاني  2021\n\n\n\n \n\n\n\n\n\nا
 لرجاء مراجعة الدليل لغرض معرفة أسعار الد
 ورات المعلن عنها\n\nhttps://events.uobaghdad.edu.iq/event/24
 97/
LOCATION:الدورات الادارية
URL:https://events.uobaghdad.edu.iq/event/2497/
END:VEVENT
END:VCALENDAR
