BEGIN:VCALENDAR
VERSION:2.0
PRODID:-//CERN//INDICO//EN
BEGIN:VEVENT
SUMMARY:( لمنسوبي جامعة بغداد)اليات تبسيط إج
 راءات العمل
DTSTART;VALUE=DATE-TIME:20210801T130000Z
DTEND;VALUE=DATE-TIME:20210805T150000Z
DTSTAMP;VALUE=DATE-TIME:20210817T124008Z
UID:indico-event-2310@events.uobaghdad.edu.iq
DESCRIPTION: دليل دورات  منسوبي جامعة بغداد ل
 لنصف الثاني  2021\n\n\n\n\n\n\n\nالرجاء مراجعة ال
 دليل لغرض معرفة أسعار الدورات المعلن عنه
 ا\n\nhttps://events.uobaghdad.edu.iq/event/2310/
LOCATION:الدورات الادارية
URL:https://events.uobaghdad.edu.iq/event/2310/
END:VEVENT
END:VCALENDAR
