BEGIN:VCALENDAR
VERSION:2.0
PRODID:-//CERN//INDICO//EN
BEGIN:VEVENT
SUMMARY:المكتبة الافتراضية العلمية العراقي
 ة
DTSTART;VALUE=DATE-TIME:20210913T060000Z
DTEND;VALUE=DATE-TIME:20210913T080000Z
DTSTAMP;VALUE=DATE-TIME:20210916T013732Z
UID:indico-event-626@events.uobaghdad.edu.iq
DESCRIPTION:ورشة المكتية الأفتراضية العلمية ا
 لعراقية \n\nالية التسجيل - طريقة الدخول - ا
 لية البحث والأفادة من مصادر المعلومات\n\n
 الساعة التاسعة مساءا \n\nعلما ان الورشة س
 تكون على منصة google meet\n\nللدخول للورشة من خ
 لال الرابط ادناه\n\nmeet.google.com/niu-hvoz-aox\n\nhttps://
 events.uobaghdad.edu.iq/event/626/
LOCATION:المكتبة المركزية
URL:https://events.uobaghdad.edu.iq/event/626/
END:VEVENT
END:VCALENDAR
