BEGIN:VCALENDAR
VERSION:2.0
PRODID:-//CERN//INDICO//EN
BEGIN:VEVENT
SUMMARY:أساليب مواجهة الضغوط النفسية Methods of c
 oping with psychological stress [ندوة]
DTSTART;VALUE=DATE-TIME:20260413T070000Z
DTEND;VALUE=DATE-TIME:20260413T080000Z
DTSTAMP;VALUE=DATE-TIME:20260424T040400Z
UID:indico-event-28311@events.uobaghdad.edu.iq
CONTACT:niam.m@ircoedu.uobaghdad.edu.iq
DESCRIPTION:Speakers: ناجي محمود ناجي\n\n تضمنت الن
 دوة عدة محاور منها:1. ما هو مفهوم الضغوط ا
 لنفسية2. ⁠ الأسباب المباشرة وغير المباشر
 ة التي تؤدي إلى الضغوط النفسية3. ⁠ الأسال
 يب المهمة المستخدمة في مواجهة الضغوط الن
 فسيةوقد هدفت الندوة إلى( تنمية وعي  طلبة 
 الجامعة بطبيعة الضغوط النفسية التي يواج
 هونها وتزويدهم بأساليب ومهارات فعاله لم
 واجهتها والتكيف معها بما يسهم في تحسين ص
 حتهم النفسية وإداىُهم الأكاديمي          
                          وتوصلت الى جملة من ا
 لتوصيات منها ١. تدريب الطلبة الطلبة على 
 مهارات تنظيم التفكير٢. ⁠ تنمية مهارات إد
 ارة الوقت٣. ⁠ تدريب الطلبة على تقنيات ال
 إسترخاء٤. ⁠ تعزيز الدعم الاجتماعي داخل ا
 لجامعة           \n\nhttps://events.uobaghdad.edu.iq/even
 t/28311/
LOCATION:قاعة دراسية (قسم العلوم التربوية وا
 لنفسية)
URL:https://events.uobaghdad.edu.iq/event/28311/
END:VEVENT
END:VCALENDAR
