BEGIN:VCALENDAR
VERSION:2.0
PRODID:-//CERN//INDICO//EN
BEGIN:VEVENT
SUMMARY:ادارة المخاطر [ورشة عمل]
DTSTART;VALUE=DATE-TIME:20260430T070000Z
DTEND;VALUE=DATE-TIME:20260430T090000Z
DTSTAMP;VALUE=DATE-TIME:20260423T225400Z
UID:indico-event-28304@events.uobaghdad.edu.iq
CONTACT:shahad.m@kecbu.uobaghdad.edu.iq
DESCRIPTION:Speakers: م.م. شهد مجيد احمد (كلية الهند
 سة الخوارزمي)\n\nإدارة المخاطر هي عملية من
 هجية تهدف إلى التعرف على المخاطر المحتمل
 ة التي قد تؤثر في تحقيق أهداف المشروع اله
 ندسي، وتحليلها من حيث احتمالية حدوثها وت
 أثيرها، ثم وضع استراتيجيات للتعامل معها.
  تشمل هذه الاستراتيجيات تجنب المخاطر أو 
 تقليلها أو نقلها أو قبولها، وذلك حسب طبي
 عة الخطر وأثره. تساعد إدارة المخاطر على ت
 عزيز القدرة على اتخاذ القرارات السليمة، 
 وتقليل المفاجآت غير المتوقعة، وزيادة فر
 ص نجاح المشاريع. كما تساهم في حماية الموا
 رد وتحسين الكفاءة التشغيلية من خلال الاس
 تعداد المسبق للتحديات المحتملة.\n\nhttps://even
 ts.uobaghdad.edu.iq/event/28304/
URL:https://events.uobaghdad.edu.iq/event/28304/
END:VEVENT
END:VCALENDAR
