BEGIN:VCALENDAR
VERSION:2.0
PRODID:-//CERN//INDICO//EN
BEGIN:VEVENT
SUMMARY:تطبيقات الحديثة لليزر في الهندسة ال
 صناعية [ورشة عمل]
DTSTART;VALUE=DATE-TIME:20260423T070000Z
DTEND;VALUE=DATE-TIME:20260423T090000Z
DTSTAMP;VALUE=DATE-TIME:20260425T165500Z
UID:indico-event-28302@events.uobaghdad.edu.iq
CONTACT:ali.m.131@kecbu.uobaghdad.edu.iq
DESCRIPTION:Speakers: مدرس مساعد علي محمد خضير مدر
 س مساعد حنين قاسم مرزه (كلية الهندسة الخو
 ارزمي)\n\nستخدم تقنية الليزر حديثًا في اله
 ندسة الصناعية لمجموعة واسعة من التطبيقا
 ت تشمل معالجة المواد بالليزر مثل القطع، 
 واللحام، والنقش، والحفر، وتعديل الأسطح،
  بالإضافة إلى التنظيف بالليزر لإزالة الت
 لوث والطلاء والصدأ. كما تُستخدم في التصن
 يع الإضافي لبناء أجزاء ثلاثية الأبعاد، و
 في المعايرة والقياس الدقيق، وفي الاتصال
 ات عبر الألياف الضوئية.\n\nhttps://events.uobaghdad.edu
 .iq/event/28302/
URL:https://events.uobaghdad.edu.iq/event/28302/
END:VEVENT
END:VCALENDAR
