BEGIN:VCALENDAR
VERSION:2.0
PRODID:-//CERN//INDICO//EN
BEGIN:VEVENT
SUMMARY:The benefits of cybersecurity in e-government [ورشة عمل]
DTSTART;VALUE=DATE-TIME:20260423T070000Z
DTEND;VALUE=DATE-TIME:20260423T090000Z
DTSTAMP;VALUE=DATE-TIME:20260425T165500Z
UID:indico-event-28301@events.uobaghdad.edu.iq
CONTACT:ayhem.t@kecbu.uobaghdad.edu.iq
DESCRIPTION:Speakers: د.أيهم طارق اسماعيل (كلية اله
 ندسة الخوارزمي)\n\nEnhancing Trust\, Efficiency\, and Safety 
 in Digital Governance. Role of cybersecurity in protecting digital servic
 es.\n\nhttps://events.uobaghdad.edu.iq/event/28301/
URL:https://events.uobaghdad.edu.iq/event/28301/
END:VEVENT
END:VCALENDAR
