BEGIN:VCALENDAR
VERSION:2.0
PRODID:-//CERN//INDICO//EN
BEGIN:VEVENT
SUMMARY:التطبيقات الحديثه للانظمه البايوكه
 روكيميائية في معالجة مخلفات المياه السا
 ئلة [ورشة عمل]
DTSTART;VALUE=DATE-TIME:20260423T060000Z
DTEND;VALUE=DATE-TIME:20260423T080000Z
DTSTAMP;VALUE=DATE-TIME:20260424T073700Z
UID:indico-event-28300@events.uobaghdad.edu.iq
CONTACT:ali.abbar@kecbu.uobaghdad.edu.iq
DESCRIPTION:Speakers: ا.د. علي حسين عبار (كلية الهند
 سة الخوارزمي)\n\nتتناول الورشه تعريف البا
 حثين على معالجة المياه الملوثة الناتجه م
 ن القطاعات الصناعيه باستخدام الطريقه ال
 بايوكهروكيميائية حيث يتم التطرق الى مبد
 ا العمل فيها وكفائتها مقارنتا بالطرق الت
 قليديه والعوامل المؤثرة على كفاء الازال
 ه\n\nhttps://events.uobaghdad.edu.iq/event/28300/
URL:https://events.uobaghdad.edu.iq/event/28300/
END:VEVENT
END:VCALENDAR
