BEGIN:VCALENDAR
VERSION:2.0
PRODID:-//CERN//INDICO//EN
BEGIN:VEVENT
SUMMARY:الاتصالات اللاسلكية في الأنظمة المي
 كاترونيكية [ورشة عمل]
DTSTART;VALUE=DATE-TIME:20260422T070000Z
DTEND;VALUE=DATE-TIME:20260422T090000Z
DTSTAMP;VALUE=DATE-TIME:20260425T165500Z
UID:indico-event-28299@events.uobaghdad.edu.iq
CONTACT:suheir.h@kecbu.uobaghdad.edu.iq
DESCRIPTION:Speakers: سهير حازم فاضل (كلية الهندسة 
 الخوارزمي)\n\nتركز هذه الورشه على دور الات
 صالات اللاسلكية والسلكية في تطوير الأنظ
 مة الميكاترونيكية الحديثة. تناقش كيفية ا
 ستخدام شبكات Wi-Fi، Zigbee، 5G، وCAN Bus للتحكم في 
 الروبوتات، المصانع الذكية، المركبات وال
 طائرات بدون طيار، والروبوتات الطبية عن ب
 عد. كما تستعرض التوجهات البحثية الحالية 
 مثل الشبكات منخفضة التأخير، دمج الذكاء ا
 لاصطناعي، والأمن السيبراني. هذه الورشة ا
 لعلمية يتهدف إلى الاطلاع على التطبيقات ا
 لحديثة والتحديات المستقبلية، وفتح باب ا
 لنقاش حول فرص دمج تقنيات الاتصالات في ال
 بحث العلمي والمشاريع الأكاديمية.\n\nhttps://ev
 ents.uobaghdad.edu.iq/event/28299/
URL:https://events.uobaghdad.edu.iq/event/28299/
END:VEVENT
END:VCALENDAR
