BEGIN:VCALENDAR
VERSION:2.0
PRODID:-//CERN//INDICO//EN
BEGIN:VEVENT
SUMMARY:التنمية المستدامة
DTSTART;VALUE=DATE-TIME:20260421T070000Z
DTEND;VALUE=DATE-TIME:20260421T090000Z
DTSTAMP;VALUE=DATE-TIME:20260424T073700Z
UID:indico-event-28298@events.uobaghdad.edu.iq
CONTACT:dr.alaa@kecbu.uobaghdad.edu.iq
DESCRIPTION:Speakers: أ.د. علاء كريم محمد أ.م. إسراء 
 مزاحم رشيد (كلية الهندسة الخوارزمي)\n\nالت
 نمية المستدامة هو مصطلح اقتصادي اجتماعي 
 أممي، رسمت به هيئة الأمم المتحدة خارطة ل
 لتنمية البيئية والاجتماعية والاقتصادية 
 على مستوى العالم، هدفها الأول هو تحسين ا
 لظروف المعيشية لكل فرد في المجتمع، وتطوي
 ر وسائل الإنتاج وأساليبه، وإدارتها بطرق 
 لا تؤدي إلى استنزاف موارد كوكب الأرض الط
 بيعية\n\nhttps://events.uobaghdad.edu.iq/event/28298/
URL:https://events.uobaghdad.edu.iq/event/28298/
END:VEVENT
END:VCALENDAR
