BEGIN:VCALENDAR
VERSION:2.0
PRODID:-//CERN//INDICO//EN
BEGIN:VEVENT
SUMMARY:Fuzzy logic control: concepts\, design\, and applications [ورش
 ة عمل]
DTSTART;VALUE=DATE-TIME:20260416T070000Z
DTEND;VALUE=DATE-TIME:20260416T090000Z
DTSTAMP;VALUE=DATE-TIME:20260423T225400Z
UID:indico-event-28297@events.uobaghdad.edu.iq
CONTACT:yasar@kecbu.uobaghdad.edu.iq
DESCRIPTION:Speakers: ا.م. يسار نوري، ا.م. اسراءرافع
  (كلية الهندسة الخوارزمي)\n\nFuzzy logic control of se
 mi active dampers is an example of continuous control. The output of the c
 ontroller as determined by the fuzzy logic that may exist anywhere between
  the minimum and maximum damping states. Fuzzy logic is used in a number o
 f controllers because it does not require an accurate model of the system 
 to be controlled.\n\nhttps://events.uobaghdad.edu.iq/event/28297/
URL:https://events.uobaghdad.edu.iq/event/28297/
END:VEVENT
END:VCALENDAR
