BEGIN:VCALENDAR
VERSION:2.0
PRODID:-//CERN//INDICO//EN
BEGIN:VEVENT
SUMMARY:أثر الذكاء الاصطناعي في تحليل الخطا
 ب السياسي: من النصوص التقليدية إلى البيا
 نات الضخمة [ورشة عمل]
DTSTART;VALUE=DATE-TIME:20260421T130000Z
DTEND;VALUE=DATE-TIME:20260421T150000Z
DTSTAMP;VALUE=DATE-TIME:20260426T023600Z
UID:indico-event-28287@events.uobaghdad.edu.iq
DESCRIPTION:https://events.uobaghdad.edu.iq/event/28287/
URL:https://events.uobaghdad.edu.iq/event/28287/
END:VEVENT
END:VCALENDAR
