BEGIN:VCALENDAR
VERSION:2.0
PRODID:-//CERN//INDICO//EN
BEGIN:VEVENT
SUMMARY:حول  الكراهية والتطرف و أثارها السلب
 ية على الفرد Regarding hatred and extremism and their negative e
 ffects on the individual [ندوة]
DTSTART;VALUE=DATE-TIME:20260415T060000Z
DTEND;VALUE=DATE-TIME:20260415T080000Z
DTSTAMP;VALUE=DATE-TIME:20260424T040400Z
UID:indico-event-28264@events.uobaghdad.edu.iq
CONTACT:niam.m@ircoedu.uobaghdad.edu.iq
DESCRIPTION:Speakers: فاطمة حمدي سلوم\n\nهدفت الندو
 ة الى :ـ 1ـ تعريف بالكراهية والتطرف2ـ محا
 ولة تجنب الضغوط النفسية والسياسية والطا
 ئفية والاقتصادية والمعيشية التي تؤدي ال
 ى خطاب الكراهية والتطرف 3ـ التعريف بأهم 
 اسباب التطرف والكراهية توصلت الندوة الى
  جملة من التوصيات هي :ـ 1ـ التمسك بالقيم و
 التعاليم الدينية ومحاولة الابتعاد عن ال
 وسائل التي تشجع على التطرف والكراهية2ـ ض
 رورة تطبيق الانظمة والقوانين والالتزام 
 بها من اجل التقليل من الكراهية والتطرف  
                                                  
                               \n\nhttps://events.uobagh
 dad.edu.iq/event/28264/
LOCATION:قاعة المناقشة (قسم الجغرافية)
URL:https://events.uobaghdad.edu.iq/event/28264/
END:VEVENT
END:VCALENDAR
