BEGIN:VCALENDAR
VERSION:2.0
PRODID:-//CERN//INDICO//EN
BEGIN:VEVENT
SUMMARY:أسرار الغلاف الجوي  Atmospheric secrets [دورة]
DTSTART;VALUE=DATE-TIME:20260413T060000Z
DTEND;VALUE=DATE-TIME:20260415T080000Z
DTSTAMP;VALUE=DATE-TIME:20260422T090800Z
UID:indico-event-28249@events.uobaghdad.edu.iq
CONTACT:niam.m@ircoedu.uobaghdad.edu.iq
DESCRIPTION:Speakers: احمد لفته\, شيماء كريم\, عمر ح
 مدان\, محمد جاسم\n\n    قام قسم الجغرافية 
 في كلية التربية ابن رشد للعلوم الانسانية
  بجامعة بغداد ، دورة علمية تخصصية بعنوان 
 (اسرار الغلاف الجوي : من الرصد الى النمذج
 ة في التحليل الشمولي وتطبيقات الاحصاء ال
 مناخي)، حاضر فيها كل من أ.م. د احمد لفتة ، 
 و م.د محمد جاسم ، و م.د عمر حمدان ، و م.د شي
 ماء كريم .هدفت الدورة الى تطوير المهارات 
 البحثية والتطبيقية في مجال تحليل البيان
 ات المناخية من خلال تقديم اطار علمي متكا
 مل يجمع بين الفهم النظري والتطبيق العملي
  ، ابتداء من استكشاف البيانات وفحص جودته
 ا وصولا إلى تحليل الظواهر المناخية ونمذج
 تها باستخدام الاساليب الاحصائية الحديثة
  بما ينسجم مع التحديات البيئية ومتطلبات 
 التنمية.وختاما أكد المحاضرون على اهمية ا
 لتكامل بين التحليل الشمولي والاساليب ال
 احصائية الحديثة بما يسهم في فهم ادق للتغ
 يرات المناخية ودعم اتخاذ القرار العلمي ا
 لرصين ، فضلا عن خدمة القطاعات الحيوية لا
 سيما القطاع الزراعي والحد من تفاقم المشك
 لات البيئية المختلفة .         \n\nhttps://even
 ts.uobaghdad.edu.iq/event/28249/
LOCATION:قاعة المناقشة (قسم الجغرافية)
URL:https://events.uobaghdad.edu.iq/event/28249/
END:VEVENT
END:VCALENDAR
