BEGIN:VCALENDAR
VERSION:2.0
PRODID:-//CERN//INDICO//EN
BEGIN:VEVENT
SUMMARY:الغش في الامتحان مخالفة تأديبية أم ج
 ريمة   Is cheating on an exam a disciplinary offense or a crime? [ند
 وة]
DTSTART;VALUE=DATE-TIME:20260317T070000Z
DTEND;VALUE=DATE-TIME:20260417T080000Z
DTSTAMP;VALUE=DATE-TIME:20260424T040400Z
UID:indico-event-28246@events.uobaghdad.edu.iq
CONTACT:niam.m@ircoedu.uobaghdad.edu.iq
DESCRIPTION:Speakers: فاطمة حمدي سلوم\n\nلوتضمنت ال
 ندوة عدة محاور منها:1. تعريف بالغش الامتح
 اني 2. العقوبات التاديبية المترتبة على ا
 لغش في الامتحان 3. العقوبات الجنائية الم
 ترتبة على الغش الامتحان   وقد هدفت الندو
 ة إلى ( تعريف وتوعية  الطلبة بمخاطر الغش 
 قي الامتحانات والمسؤلية الجنائية اذا تح
 ول الي جريمة )                                 
               وتوصلت الى جملة من التوصيات 
 منها تعوية الطلبة بالقوانين والتعليمات 
 الامتحانية ٢. الاعتماد على الدراسة بدلا
  من الحلول السهلة الابتعاد عن اي شكل من ا
 شكال التزويرفي الامتحان  توعية الطلبة م
 ن شبكات الاحتيال المنظم المتعلقة بالغش ف
 ي الامتحانات        \n\nhttps://events.uobaghdad.edu.iq
 /event/28246/
LOCATION:قاعة المناقشة (قسم الجغرافية)
URL:https://events.uobaghdad.edu.iq/event/28246/
END:VEVENT
END:VCALENDAR
