BEGIN:VCALENDAR
VERSION:2.0
PRODID:-//CERN//INDICO//EN
BEGIN:VEVENT
SUMMARY:دور التعليم في بناء الوعي المجتمعي ل
 لحد من ظاهرة الهجرة غير الشرعية [ورشة عمل
 ]
DTSTART;VALUE=DATE-TIME:20260419T090000Z
DTEND;VALUE=DATE-TIME:20260419T100000Z
DTSTAMP;VALUE=DATE-TIME:20260421T100100Z
UID:indico-event-28234@events.uobaghdad.edu.iq
CONTACT:cont.learning@colang.uobaghdad.edu.iq
DESCRIPTION:نبذة عن النشاطفي خضم التحديات الم
 تزايدة التي تفرضها ظاهرة الهجرة غير الشر
 عية وتداعياتها السلبية على الفرد والمجت
 مع، تقدم هذه الورشة رؤية متكاملة حول دور 
 التعليم بوصفه أداة استراتيجية لبناء الو
 عي المجتمعي ، حيث تستعرض آليات تعزيز ثقا
 فة الانتماء والمواطنة وتصحيح المفاهيم و
 المصطلحات المغلوطة ، مع التركيز على توضي
 ح مفهوم الهجرة النظامية وسبل اتخاذ قرارا
 ت آمنة ومدروسة. كما تسعى الورشة إلى تزويد
  الأجيال الناشئة بالمهارات الحياتية وال
 فرص البديلة عبر بناء القدرات لضمان مستقب
 ل أفضل داخل الوطن، مسلطةً الضوء على مخاط
 ر الهجرة غير النظامية وعواقبها الوخيمة، 
 بالاضافة إلى استعراض مسارات اعادة ادماج 
 العائدين اقتصادياً واجتماعياً ونفسياً. 
 تهدف الورشة في ختامها الى تمكين المعنيين
  بالشأن التربوي وقادة المجتمع من تصميم ب
 رامج تعليمية وتوعوية فاعلة، تدمج قضايا ا
 لهجرة في المناهج والأنشطة التربوية، بما 
 يسهم في تحصين الشباب ضد مخاطر الهجرة غير 
 الآمنة وبناء مجتمع واعٍ ومتماسك.\n\nhttps://eve
 nts.uobaghdad.edu.iq/event/28234/
LOCATION:قاعة النشاطات الثقافية - قسم اللغة ا
 لروسية (حياة شرارة )
URL:https://events.uobaghdad.edu.iq/event/28234/
END:VEVENT
END:VCALENDAR
