BEGIN:VCALENDAR
VERSION:2.0
PRODID:-//CERN//INDICO//EN
BEGIN:VEVENT
SUMMARY:رفض البحوث العلمية في المجلات الأكا
 ديمية
DTSTART;VALUE=DATE-TIME:20260413T070000Z
DTEND;VALUE=DATE-TIME:20260413T080000Z
DTSTAMP;VALUE=DATE-TIME:20260423T085100Z
UID:indico-event-28231@events.uobaghdad.edu.iq
DESCRIPTION:يتناول هذا النشاط العلمي موضوع أس
 باب رفض البحوث العلمية في المجلات الأكاد
 يمية، حيث يهدف إلى تعريف الباحثين وطلبة 
 الدراسات العليا بالعوامل الرئيسية التي 
 قد تؤدي إلى رفض الأبحاث المقدمة للنشر في 
 المجلات العلمية المحكمة. يوضح العرض أنوا
 ع الرفض في المجلات العلمية، مثل الرفض ال
 أولي (Desk Rejection) الذي يحدث قبل إرسال البحث 
 إلى المحكمين، والرفض بعد التحكيم العلمي 
 (Peer Review) الذي يعتمد على تقارير الخبراء ال
 متخصصين\n\nhttps://events.uobaghdad.edu.iq/event/28231/
LOCATION:قاعة الدكتور رعد المولى (College of Science)
URL:https://events.uobaghdad.edu.iq/event/28231/
END:VEVENT
END:VCALENDAR
