BEGIN:VCALENDAR
VERSION:2.0
PRODID:-//CERN//INDICO//EN
BEGIN:VEVENT
SUMMARY:العنف الأسري [محاضرة]
DTSTART;VALUE=DATE-TIME:20260412T070000Z
DTEND;VALUE=DATE-TIME:20260412T080000Z
DTSTAMP;VALUE=DATE-TIME:20260423T085100Z
UID:indico-event-28230@events.uobaghdad.edu.iq
CONTACT:dahlia.khaled@sc.uobaghdad.edu.iq\;07710904019
DESCRIPTION:Speakers: ا.د دنيا عيدان محمد (كلية الع
 لوم)\n\nتوعية الطلبة بمخاطر العنف الأسري و
 تأثيراته السلبية على المجتمع العراقي، ح
 يث يهدف النشاط الى تدارك هذه المشكلة وتر
 سيخ القيم الأصيلة في عقول الطلبة \n\nhttps://e
 vents.uobaghdad.edu.iq/event/28230/
LOCATION:قاعة الدكتور جلال محمد صالح (College of Sc
 ience)
URL:https://events.uobaghdad.edu.iq/event/28230/
END:VEVENT
END:VCALENDAR
