BEGIN:VCALENDAR
VERSION:2.0
PRODID:-//CERN//INDICO//EN
BEGIN:VEVENT
SUMMARY:التفاعلات الكيميائية للمخدرات وتأث
 يرها على الشباب [محاضرة]
DTSTART;VALUE=DATE-TIME:20260413T070000Z
DTEND;VALUE=DATE-TIME:20260413T080000Z
DTSTAMP;VALUE=DATE-TIME:20260424T073700Z
UID:indico-event-28227@events.uobaghdad.edu.iq
CONTACT:alaa.h@sc.uobaghdad.edu.iq\;07712911765
DESCRIPTION:Speakers: ا.م.د الاءعبد الزهرة حبيب (كل
 ية العلوم)\n\nتوعية الطلبة بمخاطر المواد ا
 لمخدرة وتأثيراتها الكيميائية الخطيرة دا
 خل جسم الانسان وحثهم على نبذ هذه الظاهرة 
 السلبية \n\nhttps://events.uobaghdad.edu.iq/event/28227/
LOCATION:قاعة الدكتور جلال محمد صالح (College of Sc
 ience)
URL:https://events.uobaghdad.edu.iq/event/28227/
END:VEVENT
END:VCALENDAR
