BEGIN:VCALENDAR
VERSION:2.0
PRODID:-//CERN//INDICO//EN
BEGIN:VEVENT
SUMMARY:التنمر وأثاره النفسية على الطلبة Bully
 ing and its psychological effects on students [ندوة]
DTSTART;VALUE=DATE-TIME:20260415T060000Z
DTEND;VALUE=DATE-TIME:20260415T080000Z
DTSTAMP;VALUE=DATE-TIME:20260424T041800Z
UID:indico-event-28226@events.uobaghdad.edu.iq
CONTACT:niam.m@ircoedu.uobaghdad.edu.iq
DESCRIPTION:Speakers: فاطمة حمدي سلوم\n\n  وقد تضمن
 ت الندوة عدة محاور منها :ـ 1ـ تعريف بمفهو
 م التنمر 2ـ اسباب التنمر 3ـ انواع التنمر
  4ـ اثار التنمر وقد هدفت الندوة الى :ـ 1ـ 
 تعريف بالتنمر2ـ محاولة تجنب الضغوط النفس
 ية والاقتصادية والمعيشية التي تؤدي الى ا
 لتنمر3ـ التعريف بأهم اسباب التنمر توصلت 
 الندوة الى جملة من التوصيات هي :ـ 1ـ التم
 سك بالقيم والتعاليم الدينية ومحاولة الا
 بتعاد عن الوسائل التي تشجع على التنمر2ـ ض
 رورة متابعة و مراقبة  الاهل والاصدقاء بس
 لوك وتصرفات اولادهم او الاقرباء منهم وكل
  اسلوب او سلوك يؤدي الى التنمر          
  \n\nhttps://events.uobaghdad.edu.iq/event/28226/
LOCATION:قاعة المناقشة (قسم العلوم التربوية 
 والنفسية)
URL:https://events.uobaghdad.edu.iq/event/28226/
END:VEVENT
END:VCALENDAR
