BEGIN:VCALENDAR
VERSION:2.0
PRODID:-//CERN//INDICO//EN
BEGIN:VEVENT
SUMMARY:انضباط الطلبة في الصفوف الدراسية وا
 لمختبرات الكيميائية [محاضرة]
DTSTART;VALUE=DATE-TIME:20260413T070000Z
DTEND;VALUE=DATE-TIME:20260413T080000Z
DTSTAMP;VALUE=DATE-TIME:20260423T085100Z
UID:indico-event-28225@events.uobaghdad.edu.iq
CONTACT:Hanan.a@sc.uobaghdad.edu.iq\;07710904019
DESCRIPTION:Speakers: ا.م.د هند صادق جعفر (كلية العل
 وم)\n\nتوعية الطلبة بضرورة انضباطهم في الد
 وام الرسمي ودخول المحاضرات الدراسية وال
 مختبرات الكيميائية واثارها على مستقبلهم
  \n\nhttps://events.uobaghdad.edu.iq/event/28225/
LOCATION:قاعة الدكتور جلال محمد صالح (College of Sc
 ience)
URL:https://events.uobaghdad.edu.iq/event/28225/
END:VEVENT
END:VCALENDAR
