BEGIN:VCALENDAR
VERSION:2.0
PRODID:-//CERN//INDICO//EN
BEGIN:VEVENT
SUMMARY:مكافحة التطرف المؤدي إلى الإرهاب)  Com
 bating extremism leading to terrorism [ندوة]
DTSTART;VALUE=DATE-TIME:20260415T060000Z
DTEND;VALUE=DATE-TIME:20260415T080000Z
DTSTAMP;VALUE=DATE-TIME:20260424T040400Z
UID:indico-event-28224@events.uobaghdad.edu.iq
CONTACT:niam.m@ircoedu.uobaghdad.edu.iq
DESCRIPTION:Speakers: محمد محمد جبار زغير\, نادرة ج
 ميل\, علي نعمه ناصر الاعرجي\n\n   تضمنت ال
 ندوة عدة محاور منها:1. التطور مفهومه وانت
 شار  في المجتمع2. الآثار السلبية للت التط
 رف المؤدي إلى الإرهاب3. معالجة الفكر للتخ
 لص من التطرفوقد هدفت الندوة إلى(           
                                          ‏توعي
 ة الطلبة حول مخاطر التطرف و آثاره السلبي
 ة)وتوصلت الى جملة من التوصيات منها ١. إدخ
 ال مناهج لتعليم التسامح التعددية الثقاف
 ية٢. إنشاء نوادي حوارية آمنة تشجع على الن
 قاش المفتوح٣. تقديم دعم نفسي واستشارات د
 ورية للطلبة٤. تشجيع المشاريع الطلابية ال
 تي تعزز الانخراط المدني وتعطي مساحة للجم
 يع للتعبير عن أنفسهم بشكل إيجابي       
      \n\nhttps://events.uobaghdad.edu.iq/event/28224/
LOCATION:قاعة المناقشة (قسم العلوم التربوية 
 والنفسية)
URL:https://events.uobaghdad.edu.iq/event/28224/
END:VEVENT
END:VCALENDAR
