BEGIN:VCALENDAR
VERSION:2.0
PRODID:-//CERN//INDICO//EN
BEGIN:VEVENT
SUMMARY:كيف تحمي نفسك من الابتزاز الإلكترون
 ي) How to protect yourself from online blackmail [ندوة]
DTSTART;VALUE=DATE-TIME:20260415T060000Z
DTEND;VALUE=DATE-TIME:20260415T080000Z
DTSTAMP;VALUE=DATE-TIME:20260424T040400Z
UID:indico-event-28222@events.uobaghdad.edu.iq
DESCRIPTION:Speakers: شيماء عبد العزيز\, نادرة جميل
 \n\n وتضمنت الندوة عدة محاور منها:1. المحور
  المفاهيمي والتقني2. أساليب استدراج الضح
 ايا ودوافع ورائه الجريمة3. طرائق تأمين ال
 حسابات الشخصية ومواقع التواصل الاجتماعي
 4. ⁠ المحور النفسي والاجتماعي5. ⁠ آثار ال
 ابتزاز على الفرد والمجتمع والأسرة6. ⁠ أس
 باب انتشار الظاهرة ضعف الوعي الثقة التفك
 ك الأسري7. ⁠ المحور الوقائي والقانوني8. ⁠
  خطوات التصرف الصحيح عند التعارض للا الا
 بتزاز9. ⁠ دور الشرطة المجتمعية ومكافحة ا
 لجرائم المعلوماتية في الحد من الظاهرةوق
 د هدفت الندوة إلى(                            
                         توعية الطلبة حول مخا
 طر الابتزاز الإلكتروني)وتوصلت الى جملة م
 ن التوصيات منها ١. الإجراءات الفورية عند
  التعرض الابتزاز وهي لا ترضخ لا تدفع أموا
 ل لا ترسل صورا إضافية في الاستجابة تزيد م
 ن مطالب المبتز ٢. أبلغ السلطات تواصل فور
 ا مع الشرطة المجتمعية٣. الحظر والقمع في ج
 ميع وسائل التواصل الاجتماعي          \n\
 nhttps://events.uobaghdad.edu.iq/event/28222/
LOCATION:قاعة المناقشة (قسم العلوم التربوية 
 والنفسية)
URL:https://events.uobaghdad.edu.iq/event/28222/
END:VEVENT
END:VCALENDAR
