BEGIN:VCALENDAR
VERSION:2.0
PRODID:-//CERN//INDICO//EN
BEGIN:VEVENT
SUMMARY:التمكين والشمول المالي الرقمي ضرورة
  لاستدامة النمو الاقتصادي [مؤتمر]
DTSTART;VALUE=DATE-TIME:20260601T070000Z
DTEND;VALUE=DATE-TIME:20260601T090000Z
DTSTAMP;VALUE=DATE-TIME:20260422T140500Z
UID:indico-event-28218@events.uobaghdad.edu.iq
CONTACT:economic.conference@coadec.uobaghdad.edu.iq
DESCRIPTION:Speakers: قسم الاقتصاد\n\nاهداف المؤتمر
  تعزيز دور الشمول المالي في تحقيق الاستق
 رار الاقتصادي ودعم الاصلاحات المالية وا
 لنقديةدعم التحول نحو نظام مالي في اكثر ش
 مولا يهم في توسيع الاقتصاد العراقيتوسيع 
 قاعدة المتعاملين مع المصارف غير الحلول ا
 لرقمية لدعم المشاريع الصغيرة والمتوسطةد
 عم جهود البنك المركزي في توسيع استخدام ا
 نظمة الدفع الالكتروني والخدمات المصرفية
  الرقميةتعميم واقع الشمول المالي الرقمي 
 في العراقالاسهام في تحقيق نمو اقتصادي مس
 تدام بداعي العدالة الاجتماعية بين المحا
 فظات\n\nhttps://events.uobaghdad.edu.iq/event/28218/
LOCATION:قاعة الوفاء (كلية الادارة والاقتصاد
 )
URL:https://events.uobaghdad.edu.iq/event/28218/
END:VEVENT
END:VCALENDAR
