BEGIN:VCALENDAR
VERSION:2.0
PRODID:-//CERN//INDICO//EN
BEGIN:VEVENT
SUMMARY:دور المؤسسات الحكومية والمدنية في م
 واجهة الفساد الاداري والمالي [ندوة]
DTSTART;VALUE=DATE-TIME:20260418T210000Z
DTEND;VALUE=DATE-TIME:20260418T230000Z
DTSTAMP;VALUE=DATE-TIME:20260426T023600Z
UID:indico-event-28204@events.uobaghdad.edu.iq
DESCRIPTION:https://events.uobaghdad.edu.iq/event/28204/
URL:https://events.uobaghdad.edu.iq/event/28204/
END:VEVENT
END:VCALENDAR
