BEGIN:VCALENDAR
VERSION:2.0
PRODID:-//CERN//INDICO//EN
BEGIN:VEVENT
SUMMARY:دور تقنيات الرقمنة في حفظ التاريخ ال
 وطني والتراث [ندوة]
DTSTART;VALUE=DATE-TIME:20260414T150000Z
DTEND;VALUE=DATE-TIME:20260414T170000Z
DTSTAMP;VALUE=DATE-TIME:20260426T023600Z
UID:indico-event-28196@events.uobaghdad.edu.iq
DESCRIPTION:https://events.uobaghdad.edu.iq/event/28196/
URL:https://events.uobaghdad.edu.iq/event/28196/
END:VEVENT
END:VCALENDAR
