BEGIN:VCALENDAR
VERSION:2.0
PRODID:-//CERN//INDICO//EN
BEGIN:VEVENT
SUMMARY:"Skills of Public Speaking"-مهارات فن الإلقاء [دو
 رة]
DTSTART;VALUE=DATE-TIME:20260317T060000Z
DTEND;VALUE=DATE-TIME:20260317T080000Z
DTSTAMP;VALUE=DATE-TIME:20260425T165500Z
UID:indico-event-28151@events.uobaghdad.edu.iq
DESCRIPTION:Speakers: م.م. رؤى علي إبراهيم / م.م. دعا
 ء حسين حمودي/ م.م. زينب ابراهيم علوان/ م.م. 
 سرمد سعد محمد محمد\n\n برعاية السيد عميد ك
 لية التربية ابن رشد للعلوم الانسانيةالا
 ستاذ الدكتور علاوي سادر جزاع المحترم  يق
 يم قسم اللغة الانكليزية وبالتعاون مع وحد
 ة التعليم المستمر     الدورة الموسومةمه
 ارات فن الإلقاء مقدمة   فن الإلقاء هو م
 هارة حيوية يحتاجها الأفراد في مختلف مجال
 ات الحياة، سواء في العمل أو التعليم أو حت
 ى في الحياة الاجتماعية. تهدف هذه الدورة إ
 لى تطوير مهارات الإلقاء لدى المشاركين، م
 ما يمكنهم من التعبير عن أفكارهم بوضوح وث
 قة.أهداف الدورة  فهم أساسيات فن الإلقاء: 
 التعرف على العناصر الأساسية التي تجعل من
  الإلقاء فعّالاً. تطوير مهارات التواصل: 
 تحسين القدرة على التواصل مع الجمهور بفعا
 لية.  زيادة الثقة بالنفس: بناء الثقة اللا
 زمة للتحدث أمام الجمهور. إدارة التوتر وا
 لقلق: تعلم تقنيات التحكم في التوتر أثناء 
 الإلقاء. تحسين مهارات العرض: استخدام وسا
 ئل البصرية والتقنية لتعزيز الرسالة.\n\nhttps
 ://events.uobaghdad.edu.iq/event/28151/
LOCATION:قاعة المناقشات (كلية التربية اين رش
 د للعلوم الانسانية)
URL:https://events.uobaghdad.edu.iq/event/28151/
END:VEVENT
END:VCALENDAR
