BEGIN:VCALENDAR
VERSION:2.0
PRODID:-//CERN//INDICO//EN
BEGIN:VEVENT
SUMMARY:زكاة حلي النساء [ورشة عمل]
DTSTART;VALUE=DATE-TIME:20260423T070000Z
DTEND;VALUE=DATE-TIME:20260423T090000Z
DTSTAMP;VALUE=DATE-TIME:20260421T230800Z
UID:indico-event-28146@events.uobaghdad.edu.iq
CONTACT:sci.assist.dean@cois.uobaghdad.edu.iq\;07715186577
DESCRIPTION:Speakers: د. ليلى حسن محمد (كلية العلوم 
 الاسلامية)\, م.د ورقاء جعفر (كلية العلوم ا
 لاسلامية)\n\nهدف الورشة استعراض زكاة حلي 
 النساء\n\nhttps://events.uobaghdad.edu.iq/event/28146/
LOCATION:قسم الشريعة الاسلامية (كلية العلوم 
 الاسلامية)
URL:https://events.uobaghdad.edu.iq/event/28146/
END:VEVENT
END:VCALENDAR
