BEGIN:VCALENDAR
VERSION:2.0
PRODID:-//CERN//INDICO//EN
BEGIN:VEVENT
SUMMARY:( الميثاق الافريقي لحقوق الانسان ۱۹۸
 ۱ ) (African Charter on Human Rights 1981) [ورشة عمل]
DTSTART;VALUE=DATE-TIME:20260407T070000Z
DTEND;VALUE=DATE-TIME:20260407T080000Z
DTSTAMP;VALUE=DATE-TIME:20260424T040400Z
UID:indico-event-28137@events.uobaghdad.edu.iq
CONTACT:niam.m@ircoedu.uobaghdad.edu.iq
DESCRIPTION:Speakers: اصالة عمار\, رجاء زامل\n\n    
       \n\nhttps://events.uobaghdad.edu.iq/event/28137/
LOCATION:قاعة دراسية (قسم التاريخ)
URL:https://events.uobaghdad.edu.iq/event/28137/
END:VEVENT
END:VCALENDAR
