BEGIN:VCALENDAR
VERSION:2.0
PRODID:-//CERN//INDICO//EN
BEGIN:VEVENT
SUMMARY:صفات المدير الناجح [ورشة عمل]
DTSTART;VALUE=DATE-TIME:20260406T150000Z
DTEND;VALUE=DATE-TIME:20260406T170000Z
DTSTAMP;VALUE=DATE-TIME:20260426T023600Z
UID:indico-event-28116@events.uobaghdad.edu.iq
DESCRIPTION:https://events.uobaghdad.edu.iq/event/28116/
URL:https://events.uobaghdad.edu.iq/event/28116/
END:VEVENT
END:VCALENDAR
