BEGIN:VCALENDAR
VERSION:2.0
PRODID:-//CERN//INDICO//EN
BEGIN:VEVENT
SUMMARY:استخدامات الوسائل التعليمية في تدري
 س التربية الاسلامية [ورشة عمل]
DTSTART;VALUE=DATE-TIME:20260409T150000Z
DTEND;VALUE=DATE-TIME:20260409T170000Z
DTSTAMP;VALUE=DATE-TIME:20260426T023600Z
UID:indico-event-28104@events.uobaghdad.edu.iq
DESCRIPTION:https://events.uobaghdad.edu.iq/event/28104/
URL:https://events.uobaghdad.edu.iq/event/28104/
END:VEVENT
END:VCALENDAR
