BEGIN:VCALENDAR
VERSION:2.0
PRODID:-//CERN//INDICO//EN
BEGIN:VEVENT
SUMMARY:الشخصية الجامعية وأثرها في تعزيز ال
 واقع الجامعي
DTSTART;VALUE=DATE-TIME:20260330T130000Z
DTEND;VALUE=DATE-TIME:20260330T150000Z
DTSTAMP;VALUE=DATE-TIME:20260426T023600Z
UID:indico-event-28051@events.uobaghdad.edu.iq
DESCRIPTION:https://events.uobaghdad.edu.iq/event/28051/
URL:https://events.uobaghdad.edu.iq/event/28051/
END:VEVENT
END:VCALENDAR
