BEGIN:VCALENDAR
VERSION:2.0
PRODID:-//CERN//INDICO//EN
BEGIN:VEVENT
SUMMARY:Smart mouthguard for diabetes measurement from saliva
DTSTART;VALUE=DATE-TIME:20260415T070000Z
DTEND;VALUE=DATE-TIME:20260415T090000Z
DTSTAMP;VALUE=DATE-TIME:20260423T040500Z
UID:indico-event-28034@events.uobaghdad.edu.iq
CONTACT:yaarub.omar@kecbu.uobaghdad.edu.iq
DESCRIPTION:Speakers: د. يعرب عمر ناجي (كلية الهندس
 ة الخوارزمي)\n\nيتضمن النشاط شرح ما تم الت
 وصل اليه فكرة عمل جهاز ذكي يوضع في الفم ل
 قياس نسبة السكر في الدم من خلال اللعاب\n\nh
 ttps://events.uobaghdad.edu.iq/event/28034/
URL:https://events.uobaghdad.edu.iq/event/28034/
END:VEVENT
END:VCALENDAR
