BEGIN:VCALENDAR
VERSION:2.0
PRODID:-//CERN//INDICO//EN
BEGIN:VEVENT
SUMMARY:إدارة التوتر الأكاديمي والضغوط الاق
 تصاديةManaging academic stress and economic pressures
DTSTART;VALUE=DATE-TIME:20260329T070000Z
DTEND;VALUE=DATE-TIME:20260329T090000Z
DTSTAMP;VALUE=DATE-TIME:20260423T085100Z
UID:indico-event-28007@events.uobaghdad.edu.iq
DESCRIPTION:Speakers: zshyan.yahya zshyan.yahya (كليه التربيه 
 ابن رشد للعلوم الانسانيه)\n\nالعنوان: @دور
 ة التدريب: كيف تتفوق بالرغم من ذلك (إدارة 
 الدراسات والضغوط العلمية) – قسم العلوم ا
 لتربوية والنفسية @@مركز التنظيم: @ إنشاء ق
 سم العلوم التربوية والنفسية دورة على الم
 ختبرات الطبية لقسم ضمن خطة قسم العلوم ال
 أكاديمية البرامجية. @@المكان والمدة: @الم
 ختبر المختبري – قسم العلوم التربوية وال
 نفسية @فبراير (الأحد، الاثنين) موافق 29 - 30 
 @آآء 2025 @@المحاضر: @@• الدكتورة ازهار علوا
 ن كشاش @• الدكتورة حنان موسى عمران @@@المل
 خص: @الحمامت خلال العلاج النفسي والمرونة 
 الأكاديمية. كما تناقشت مسألة دقة التعامل
  مع القلق والضغوط الدراسة، أساس أهمية ال
 دعم الأسري والمؤسسي في الطلب على التفوق 
 رغم التحديات. @@القوة: @@• زيادة الوعي بأه
 مية إدارة المعرفة العلمية. @• تقديم المش
 اركين باستراتيجيات عملية للتعامل مع الق
 ضايا والقلق. @•دورة تدريسيين في الدعم ال
 نفسي والأكاديمي. @• إبراز أهمية التغيير 
 لقوة الدافعة نحو النجاح. @@@ولهذا السبب: @@
 • يتطلب عدداً معروفاً من البرامج حول إدا
 رة العمليات الجراحية. @• الدعم الصحي وال
 تأهيل الجامعي. @• مجموعة حملات توعية حول 
 كيفية التعامل مع الحرية الاقتصادية والأ
 كاديمية. @• دعم الدراسات والبحوث التي حق
 قت نجاحًا كبيرًا في الأداء الأكاديمي. @• 
 تشجيع الطلبة على ممارسة التمارين الرياض
 ية تساعدهم على الأمراض النفسية.\n\nhttps://event
 s.uobaghdad.edu.iq/event/28007/
LOCATION:قسم العلوم التربويه والنفسيه  (كلية 
 التربية ابن رشد للعلوم الانسانيه )
URL:https://events.uobaghdad.edu.iq/event/28007/
END:VEVENT
END:VCALENDAR
