BEGIN:VCALENDAR
VERSION:2.0
PRODID:-//CERN//INDICO//EN
BEGIN:VEVENT
SUMMARY:احتفالية اليوم العالمي للفرنكوفوني
 ة [مسابقة ومهرجان]
DTSTART;VALUE=DATE-TIME:20260407T070000Z
DTEND;VALUE=DATE-TIME:20260407T090000Z
DTSTAMP;VALUE=DATE-TIME:20260421T100100Z
UID:indico-event-27995@events.uobaghdad.edu.iq
CONTACT:french@colang.uobaghdad.edu.iq
DESCRIPTION:يهدف مهرجان الفرنكوفونية الى ابرا
 ز دور اللغة الفرنسية كأداة للتواصل العال
 مي وتعزيز التنوع اللغوي في العراق. كما وي
 ساهم في تطوير الابتكار والريادة باللغة ا
 لفرنسية في ظل التحول الرقمي في التعليم.و
 تبرز الاهمية العلمية لهذا المهرجان من خل
 ال خلق حلقة وصل بين ما يتعلمه الطالب في د
 رس اللغة الفرنسية وممارسته لهذه اللغة عن
  طريق مشاركته في هذا المهرجان السنوي و تح
 قيق اهداف المخرجات الدراسية بممارسات حق
 يقية للغة الفرنسية على ارض الواقع. كما ين
 درج هذا المهرجان في سياق دعم أهداف التنم
 ية المستدامة، وبشكل خاص الهدف الرابع الم
 تعلق بالتعليم الجيد، عبر إتاحة فرص التعل
 م المستمر وبناء القدرات.\n\nhttps://events.uobaghdad.e
 du.iq/event/27995/
LOCATION:قاعة المؤتمرات 
URL:https://events.uobaghdad.edu.iq/event/27995/
END:VEVENT
END:VCALENDAR
