BEGIN:VCALENDAR
VERSION:2.0
PRODID:-//CERN//INDICO//EN
BEGIN:VEVENT
SUMMARY:تحصين الشباب من السلوكيات المتطرفة [
 ندوة]
DTSTART;VALUE=DATE-TIME:20261213T070000Z
DTEND;VALUE=DATE-TIME:20261213T090000Z
DTSTAMP;VALUE=DATE-TIME:20260420T105800Z
UID:indico-event-27939@events.uobaghdad.edu.iq
CONTACT:nour.r@kecbu.uobaghdad.edu.iq
DESCRIPTION:Speakers: م.م نور راشد عبداللطيف - رجل ا
 لدين الشيخ علي المياحي (كلية الهندسة الخ
 وارزمي)\n\nتحصين الشباب من السلوكيات المت
 طرفة يحتاج إلى تعاون الأسرة، المدرسة، ال
 مؤسسة الدينية، الإعلام، والمجتمع المدني
  مع الدولة، لتوفير بيئة آمنة تمنح الشباب 
 الأمل والقدرة على الإبداع بدل الانجرار ن
 حو الفكر المتطرف\n\nhttps://events.uobaghdad.edu.iq/event/27
 939/
URL:https://events.uobaghdad.edu.iq/event/27939/
END:VEVENT
END:VCALENDAR
