BEGIN:VCALENDAR
VERSION:2.0
PRODID:-//CERN//INDICO//EN
BEGIN:VEVENT
SUMMARY:الحوكمة السياسية في العراق [ورشة عمل
 ]
DTSTART;VALUE=DATE-TIME:20260406T080000Z
DTEND;VALUE=DATE-TIME:20260406T100000Z
DTSTAMP;VALUE=DATE-TIME:20260419T205300Z
UID:indico-event-27914@events.uobaghdad.edu.iq
DESCRIPTION:https://events.uobaghdad.edu.iq/event/27914/
LOCATION:النظم السياسية  (college of Political Sciences )
URL:https://events.uobaghdad.edu.iq/event/27914/
END:VEVENT
END:VCALENDAR
