BEGIN:VCALENDAR
VERSION:2.0
PRODID:-//CERN//INDICO//EN
BEGIN:VEVENT
SUMMARY:المشاركة السياسية للشباب في العراق [
 ورشة عمل]
DTSTART;VALUE=DATE-TIME:20260317T070000Z
DTEND;VALUE=DATE-TIME:20260317T090000Z
DTSTAMP;VALUE=DATE-TIME:20260419T140100Z
UID:indico-event-27913@events.uobaghdad.edu.iq
DESCRIPTION:https://events.uobaghdad.edu.iq/event/27913/
LOCATION:النظم السياسية (college of Political Sciences)
URL:https://events.uobaghdad.edu.iq/event/27913/
END:VEVENT
END:VCALENDAR
