BEGIN:VCALENDAR
VERSION:2.0
PRODID:-//CERN//INDICO//EN
BEGIN:VEVENT
SUMMARY:الامن البيئي في العراق وانعكاساته ع
 لى التنمية المستدامة [ورشة عمل]
DTSTART;VALUE=DATE-TIME:20260301T080000Z
DTEND;VALUE=DATE-TIME:20260301T100000Z
DTSTAMP;VALUE=DATE-TIME:20260422T092500Z
UID:indico-event-27912@events.uobaghdad.edu.iq
DESCRIPTION:https://events.uobaghdad.edu.iq/event/27912/
LOCATION:النظم السياسية (college of Political Sciences )
URL:https://events.uobaghdad.edu.iq/event/27912/
END:VEVENT
END:VCALENDAR
