BEGIN:VCALENDAR
VERSION:2.0
PRODID:-//CERN//INDICO//EN
BEGIN:VEVENT
SUMMARY:سياسات الدولة في التصدي للقيم الدخي
 لة على المجتمع ( المثلية ) انموذجا [ورشة ع
 مل]
DTSTART;VALUE=DATE-TIME:20260407T070000Z
DTEND;VALUE=DATE-TIME:20260407T090000Z
DTSTAMP;VALUE=DATE-TIME:20260420T184100Z
UID:indico-event-27908@events.uobaghdad.edu.iq
DESCRIPTION:https://events.uobaghdad.edu.iq/event/27908/
LOCATION:وحدة ابن سينا  (college of Political Sciences )
URL:https://events.uobaghdad.edu.iq/event/27908/
END:VEVENT
END:VCALENDAR
