BEGIN:VCALENDAR
VERSION:2.0
PRODID:-//CERN//INDICO//EN
BEGIN:VEVENT
SUMMARY:تدريب مسرح [ورشة عمل]
DTSTART;VALUE=DATE-TIME:20260414T070000Z
DTEND;VALUE=DATE-TIME:20260414T090000Z
DTSTAMP;VALUE=DATE-TIME:20260419T183400Z
UID:indico-event-27906@events.uobaghdad.edu.iq
DESCRIPTION:https://events.uobaghdad.edu.iq/event/27906/
LOCATION:قسم النشاطات الطلابية  (college of Political S
 ciences)
URL:https://events.uobaghdad.edu.iq/event/27906/
END:VEVENT
END:VCALENDAR
