BEGIN:VCALENDAR
VERSION:2.0
PRODID:-//CERN//INDICO//EN
BEGIN:VEVENT
SUMMARY:اخلاقيات البحث العلمي وتطبيقاتها ال
 عملية في الدراسات الفلسفية [ورشة عمل]
DTSTART;VALUE=DATE-TIME:20260406T070000Z
DTEND;VALUE=DATE-TIME:20260406T090000Z
DTSTAMP;VALUE=DATE-TIME:20260420T131200Z
UID:indico-event-27170@events.uobaghdad.edu.iq
CONTACT:sci.assist.dean@cois.uobaghdad.edu.iq\;07715186577
DESCRIPTION:Speakers: م.د غيداء محمد حسن (كلية العل
 وم الاسلامية)\, م.د حوراء عطا (كلية العلوم 
 الاسلامية)\n\nهدف الورشةتتناول هذه الورشة
  مجموعة المبادىء والقيم التيعلى الباحثي
 ن الالتزام بها اثناء كتابتهم للبحوث العل
 ميةبعامة والبحوث الفلسفية بشكل خاص والت
 ي من بينهااحترام حقوق الملكية الفكرية وا
 لموضوعية والمنهجية\n\nhttps://events.uobaghdad.edu.iq/eve
 nt/27170/
LOCATION:قسم الفلسفة الاسلامية (كلية العلوم 
 الاسلامية)
URL:https://events.uobaghdad.edu.iq/event/27170/
END:VEVENT
END:VCALENDAR
