BEGIN:VCALENDAR
VERSION:2.0
PRODID:-//CERN//INDICO//EN
BEGIN:VEVENT
SUMMARY:ودورها في تطوير خدمات المكتبات  open sou
 rceالنظم مفتوحة المصدر
DTSTART;VALUE=DATE-TIME:20260407T070000Z
DTEND;VALUE=DATE-TIME:20260407T090000Z
DTSTAMP;VALUE=DATE-TIME:20260421T230800Z
UID:indico-event-27073@events.uobaghdad.edu.iq
DESCRIPTION:Speakers: tayseer radeef\n\nhttps://events.uobaghdad.edu.iq/ev
 ent/27073/
LOCATION:Continuing  Education Center
URL:https://events.uobaghdad.edu.iq/event/27073/
END:VEVENT
END:VCALENDAR
