BEGIN:VCALENDAR
VERSION:2.0
PRODID:-//CERN//INDICO//EN
BEGIN:VEVENT
SUMMARY:Synthesis\, docking study\, and preliminary Anti-inflammatory and 
 Antimicrobial Evaluation of New Fenoprofen derivatives [حلقة نقاش
 ية]
DTSTART;VALUE=DATE-TIME:20260407T070000Z
DTEND;VALUE=DATE-TIME:20260407T080000Z
DTSTAMP;VALUE=DATE-TIME:20260424T040900Z
UID:indico-event-26190@events.uobaghdad.edu.iq
CONTACT:dr.mohammedhassan@copharm.uobaghdad.edu.iq
DESCRIPTION:Speakers: علي صادق كامل / الكيمياء الصي
 دلانية\n\nحلقة نقاشية تقيمها وحدة الشؤون 
 العلمية\n\nhttps://events.uobaghdad.edu.iq/event/26190/
LOCATION:كلية الصيدلة
URL:https://events.uobaghdad.edu.iq/event/26190/
END:VEVENT
END:VCALENDAR
