BEGIN:VCALENDAR
VERSION:2.0
PRODID:-//CERN//INDICO//EN
BEGIN:VEVENT
SUMMARY:The importance of cyclic compounds in drug design [حلقة نقا
 شية]
DTSTART;VALUE=DATE-TIME:20260407T070000Z
DTEND;VALUE=DATE-TIME:20260407T080000Z
DTSTAMP;VALUE=DATE-TIME:20260424T040900Z
UID:indico-event-26189@events.uobaghdad.edu.iq
CONTACT:dr.mohammedhassan@copharm.uobaghdad.edu.iq
DESCRIPTION:Speakers: غيث بلال قاسم / الكيمياء الصي
 دلانية\n\nحلقة نقاشية تقيمها وحدة الشؤون 
 العلمية\n\nhttps://events.uobaghdad.edu.iq/event/26189/
LOCATION:كلية الصيدلة
URL:https://events.uobaghdad.edu.iq/event/26189/
END:VEVENT
END:VCALENDAR
