BEGIN:VCALENDAR
VERSION:2.0
PRODID:-//CERN//INDICO//EN
BEGIN:VEVENT
SUMMARY:Comparative Study on the Nephroprotective Effects of Cilnidipine a
 nd Lercanidipine in a Rat Model of Cisplatin-Induced Acute Kidney Injury. 
 [حلقة نقاشية]
DTSTART;VALUE=DATE-TIME:20260416T070000Z
DTEND;VALUE=DATE-TIME:20260416T080000Z
DTSTAMP;VALUE=DATE-TIME:20260423T174400Z
UID:indico-event-26159@events.uobaghdad.edu.iq
CONTACT:ali.hussein@copharm.uobaghdad.edu.iq
DESCRIPTION:Speakers: الاء فاضل خضير/ الادوية والس
 موم\n\nحلقة نقاشية تقيمها وحدة الشؤون الع
 لمية\n\nhttps://events.uobaghdad.edu.iq/event/26159/
LOCATION:كلية الصيدلة
URL:https://events.uobaghdad.edu.iq/event/26159/
END:VEVENT
END:VCALENDAR
