BEGIN:VCALENDAR
VERSION:2.0
PRODID:-//CERN//INDICO//EN
BEGIN:VEVENT
SUMMARY:Comparative Study on the Hepatoprotective Effects of Cilnidipine a
 nd Nicardipine in a Rat Model on Cisplatin-Induced Liver Injury [حلقة 
 نقاشية]
DTSTART;VALUE=DATE-TIME:20260416T070000Z
DTEND;VALUE=DATE-TIME:20260416T080000Z
DTSTAMP;VALUE=DATE-TIME:20260424T040400Z
UID:indico-event-26157@events.uobaghdad.edu.iq
CONTACT:ali.hussein@copharm.uobaghdad.edu.iq
DESCRIPTION:Speakers: الاء عايد عبدالله/ أدويه وسم
 وم\n\nحلقة نقاشية تقيمها وحدة الشؤون العل
 مية\n\nhttps://events.uobaghdad.edu.iq/event/26157/
LOCATION:كلية الصيدلة
URL:https://events.uobaghdad.edu.iq/event/26157/
END:VEVENT
END:VCALENDAR
