BEGIN:VCALENDAR
VERSION:2.0
PRODID:-//CERN//INDICO//EN
BEGIN:VEVENT
SUMMARY:علم النفس الصناعي [ورشة عمل]
DTSTART;VALUE=DATE-TIME:20260505T080000Z
DTEND;VALUE=DATE-TIME:20260505T090000Z
DTSTAMP;VALUE=DATE-TIME:20260420T131200Z
UID:indico-event-25787@events.uobaghdad.edu.iq
CONTACT:dr.anwar_m@coadec.uobaghdad.edu.iq\;raad_z_alazawi@coadec.uobaghda
 d.edu.iq
DESCRIPTION:Speakers: م.د.رعد زيد علوان (كلية الادا
 رة والاقتصاد / قسم الادارة الصناعية)\, أ.م.
 د. انوار مصطفى حسن (كلية الادارة والاقتصا
 د / قسم الادارة الصناعية)\n\nنوع النشاط :   
 علوم اجتماعية الفئة المستهدفة :   الاسا
 تذة وطلبة الدراسات العلياهدف الورشة    
 \n\nhttps://events.uobaghdad.edu.iq/event/25787/
LOCATION:كلية الادارة والاقتصاد
URL:https://events.uobaghdad.edu.iq/event/25787/
END:VEVENT
END:VCALENDAR
