BEGIN:VCALENDAR
VERSION:2.0
PRODID:-//CERN//INDICO//EN
BEGIN:VEVENT
SUMMARY:توثيق انتهاكات الارهاب للتراث الحضا
 ري في العراق [ندوة]
DTSTART;VALUE=DATE-TIME:20261001T070000Z
DTEND;VALUE=DATE-TIME:20261001T090000Z
DTSTAMP;VALUE=DATE-TIME:20260420T105800Z
UID:indico-event-25639@events.uobaghdad.edu.iq
DESCRIPTION:https://events.uobaghdad.edu.iq/event/25639/
URL:https://events.uobaghdad.edu.iq/event/25639/
END:VEVENT
END:VCALENDAR
